BEGIN:VCALENDAR
VERSION:2.0
PRODID:-//Poldens Today - ECPv6.15.20//NONSGML v1.0//EN
CALSCALE:GREGORIAN
METHOD:PUBLISH
X-ORIGINAL-URL:https://poldenstoday.co.uk
X-WR-CALDESC:Events for Poldens Today
REFRESH-INTERVAL;VALUE=DURATION:PT1H
X-Robots-Tag:noindex
X-PUBLISHED-TTL:PT1H
BEGIN:VTIMEZONE
TZID:Europe/London
BEGIN:DAYLIGHT
TZOFFSETFROM:+0000
TZOFFSETTO:+0100
TZNAME:BST
DTSTART:20250330T010000
END:DAYLIGHT
BEGIN:STANDARD
TZOFFSETFROM:+0100
TZOFFSETTO:+0000
TZNAME:GMT
DTSTART:20251026T010000
END:STANDARD
BEGIN:DAYLIGHT
TZOFFSETFROM:+0000
TZOFFSETTO:+0100
TZNAME:BST
DTSTART:20260329T010000
END:DAYLIGHT
BEGIN:STANDARD
TZOFFSETFROM:+0100
TZOFFSETTO:+0000
TZNAME:GMT
DTSTART:20261025T010000
END:STANDARD
BEGIN:DAYLIGHT
TZOFFSETFROM:+0000
TZOFFSETTO:+0100
TZNAME:BST
DTSTART:20270328T010000
END:DAYLIGHT
BEGIN:STANDARD
TZOFFSETFROM:+0100
TZOFFSETTO:+0000
TZNAME:GMT
DTSTART:20271031T010000
END:STANDARD
END:VTIMEZONE
BEGIN:VEVENT
DTSTART;TZID=Europe/London:20260517T140000
DTEND;TZID=Europe/London:20260517T160000
DTSTAMP:20260423T211745
CREATED:20260309T180027Z
LAST-MODIFIED:20260309T180027Z
UID:1874-1779026400-1779033600@poldenstoday.co.uk
SUMMARY:Moorlinch: Annual Plant Sale
DESCRIPTION:🪴 Moorlinch: Annual Plant Sale 🪴 \n📅 Date: Sunday 17th May🕖 Time: 12:00 pm – 4:00 pm📍 Venue: Moorlinch Church Hall \n \nJoin us for our annual plant sale. \n  \n🍰 Refreshments and cakes available too!\n  \nContact Jenny Hayward-Karlsson 📧 jennyhaywardk@hotmail.com
URL:https://poldenstoday.co.uk/calendar/moorlinch-annual-plant-sale/
LOCATION:Moorlinch Church Hall
CATEGORIES:Moorlinch
END:VEVENT
BEGIN:VEVENT
DTSTART;TZID=Europe/London:20260517T140000
DTEND;TZID=Europe/London:20260517T160000
DTSTAMP:20260423T211745
CREATED:20260423T120023Z
LAST-MODIFIED:20260423T120023Z
UID:2009-1779026400-1779033600@poldenstoday.co.uk
SUMMARY:Cossington: Annual Plant Sale
DESCRIPTION:🪴 Cossington Annual Plant Sale 🪴 \n📅 Date: Sunday 17th May🕖 Time: 2:00 pm – 4:00 pm (Plants can be dropped off from 1:00pm)📍 Venue: Cossington Church \n \nJoin us for our annual plant sale\n\nCome and join us for a chat and buy some new plants for your garden\n \n🍰 Refreshments and cakes available too!\n \nContact 📧 cossingtonchurch@yahoo.com
URL:https://poldenstoday.co.uk/calendar/cossington-annual-plant-sale/
LOCATION:Cossington Church
CATEGORIES:Cossington
END:VEVENT
BEGIN:VEVENT
DTSTART;TZID=Europe/London:20260518T193000
DTEND;TZID=Europe/London:20260518T213000
DTSTAMP:20260423T211745
CREATED:20260318T160058Z
LAST-MODIFIED:20260318T160058Z
UID:1932-1779132600-1779139800@poldenstoday.co.uk
SUMMARY:Edington: Edington & District Local History Group
DESCRIPTION:Monday 18th May\n 7:30pm\nEdington School Rooms\, Church Road\, Edington TA7 9JT \nCome and join us for a bit of history\, brought to life by EDHG members and maybe find inspiration for your own historical research.\nWW2/1939 – Evacuees ‘adopted’ in the Poldens (thank you to Catcott\nEducational Charity). School Registers available to view.\nIntroduction by Patsy Atkins\nRefreshments provided \n💷 £2.50 \nEnquiries: 📧 patricia@ratkins77.plus.com or 📞01278 723184
URL:https://poldenstoday.co.uk/calendar/edington-edington-district-local-history-group/
LOCATION:Edington School Room
CATEGORIES:Edington
END:VEVENT
BEGIN:VEVENT
DTSTART;TZID=Europe/London:20260530T143000
DTEND;TZID=Europe/London:20260530T163000
DTSTAMP:20260423T211745
CREATED:20260312T144402Z
LAST-MODIFIED:20260312T144402Z
UID:1926-1780151400-1780158600@poldenstoday.co.uk
SUMMARY:Burtle: Cream Teas at Catcott Burtle Farm
DESCRIPTION:🍰🫖 Cream Teas at Catcott Burtle Farm \n📅 Date: Saturday 30th May\, 2026🕛 Time: 2:30 pm – 4:30 pm📍 Location: Catcott Burtle Farm\, Burtle TA7 8NE \n🍰🫖 Join us for a traditional cream tea\, at Catcott Burtle Farm\, Burtle in aid of St Philip & St James Church\, Burtle\nCome and share a table with old friends and meet some new ones!\nAll welcome!
URL:https://poldenstoday.co.uk/calendar/burtle-cream-teas-at-catcott-burtle-farm/
LOCATION:Catcott Burtle Farm\, Catcott Road\, Burtle\, Bridgwater\, Somerset\, TA7 8NE
CATEGORIES:Burtle
END:VEVENT
BEGIN:VEVENT
DTSTART;TZID=Europe/London:20260608T143000
DTEND;TZID=Europe/London:20260608T160000
DTSTAMP:20260423T211745
CREATED:20260423T142150Z
LAST-MODIFIED:20260423T142150Z
UID:2013-1780929000-1780934400@poldenstoday.co.uk
SUMMARY:Edington: The Happy Companions Club (55+)
DESCRIPTION:The Happy Companions Club (55+)\n“The Silk Road” talk by Ian Williamson\n \nJoin us for friendship\, conversation and a warm welcome at the Village Hall in Edington. \n🗓 Monday June 8th🕝 2.30pm📍 Village Hall\, Edington \n💷 £2 for members | £3 for non-members👋 All are welcome! \nCome along and enjoy good company in a relaxed and friendly setting.
URL:https://poldenstoday.co.uk/calendar/edington-the-happy-companions-club-55-7/
LOCATION:Village Hall\, Edington
CATEGORIES:Edington
END:VEVENT
BEGIN:VEVENT
DTSTART;TZID=Europe/London:20260613T120000
DTEND;TZID=Europe/London:20260613T143000
DTSTAMP:20260423T211745
CREATED:20260308T153820Z
LAST-MODIFIED:20260423T143718Z
UID:1863-1781352000-1781361000@poldenstoday.co.uk
SUMMARY:Chilton Polden: Silver Spoon Lunch
DESCRIPTION:🥣 Silver Spoon Lunch \n📅 Saturday 13th June\n🕙 Doors open 12.00pm \n📍 Chilton Polden Village Hall \n✅ Everyone welcome – come and join us for a 2 course lunch!
URL:https://poldenstoday.co.uk/calendar/chilton-polden-silver-spoon-lunch-4/
LOCATION:Chilton Polden Hall
CATEGORIES:Chilton Polden
END:VEVENT
BEGIN:VEVENT
DTSTART;VALUE=DATE:20260622
DTEND;VALUE=DATE:20260623
DTSTAMP:20260423T211745
CREATED:20260423T142543Z
LAST-MODIFIED:20260423T142850Z
UID:2014-1782086400-1782172799@poldenstoday.co.uk
SUMMARY:Edington: The Happy Companions Club (55+)
DESCRIPTION:The Happy Companions Club (55+)\n🌿🌸Summer outing to Rosemore RHS gardens\n \nEnjoy a day out at the wonderful Rosemore RHS gardens\n📞 Contact 01278 722175 to see if there are any spare places. \n🗓 Monday June 22nd📍 Village Hall\, Edington \n📞 Contact 01278 722175 to see if there are any spare places.👋 All are welcome!
URL:https://poldenstoday.co.uk/calendar/edington-the-happy-companions-club-55-8/
LOCATION:Village Hall\, Edington
CATEGORIES:Edington
END:VEVENT
BEGIN:VEVENT
DTSTART;TZID=Europe/London:20260628T120000
DTEND;TZID=Europe/London:20260628T180000
DTSTAMP:20260423T211745
CREATED:20251022T163041Z
LAST-MODIFIED:20251022T163041Z
UID:1289-1782648000-1782669600@poldenstoday.co.uk
SUMMARY:Cattcott: Village Open Gardens 2026
DESCRIPTION:🌿 Catcott Village Open Gardens 2026 \n📅 Date: Sunday\, June 28th\, 2026🕛 Time: 12:00 PM – 6:00 PM📍 Location: Village Hall Quarry Ground\, Lippets Way\, Edington\, Bridgwater\, Somerset TA7 9HA \nEnjoy a wonderful day exploring around 15 beautiful village gardens opened to the public. Other attractions include: \n\n\n🍰 Cream teas\, tea & cakes \n\n\n🚗 Rides in vintage cars \n\n\n⛪ Climb the church tower for stunning views across the Somerset Levels \n\n\nFurther Information: info@catcottvillage.co.uk
URL:https://poldenstoday.co.uk/calendar/cattcott-village-open-gardens-2026/
LOCATION:Village Hall\, Edington
END:VEVENT
BEGIN:VEVENT
DTSTART;TZID=Europe/London:20260706T143000
DTEND;TZID=Europe/London:20260706T160000
DTSTAMP:20260423T211745
CREATED:20260423T142810Z
LAST-MODIFIED:20260423T142810Z
UID:2015-1783348200-1783353600@poldenstoday.co.uk
SUMMARY:Edington: The Happy Companions Club (55+)
DESCRIPTION:The Happy Companions Club (55+)\n“Glass” talk by Sue Burn \nJoin us for friendship\, conversation and a warm welcome at the Village Hall in Edington. \n🗓 Monday July 6th🕝 2.30pm📍 Village Hall\, Edington \n💷 £2 for members | £3 for non-members👋 All are welcome! \nCome along and enjoy good company in a relaxed and friendly setting
URL:https://poldenstoday.co.uk/calendar/edington-the-happy-companions-club-55-9/
LOCATION:Village Hall\, Edington
CATEGORIES:Edington
END:VEVENT
BEGIN:VEVENT
DTSTART;TZID=Europe/London:20260711T100000
DTEND;TZID=Europe/London:20260711T130000
DTSTAMP:20260423T211745
CREATED:20260308T153620Z
LAST-MODIFIED:20260308T153918Z
UID:1861-1783764000-1783774800@poldenstoday.co.uk
SUMMARY:Chilton Polden: Craft market
DESCRIPTION:🧵 Craft Market🧵 \n📅 Saturday 11th July\n🕙 10.00am – 1.00pm \n📍 Chilton Polden Village Hall \n✨ Locally crafted items\n🥕 Fresh local produce and fare\n☕ Refreshments available\nInterested in booking a table?\n📧 Email: cp.craftmarket@icloud.com
URL:https://poldenstoday.co.uk/calendar/chilton-polden-craft-market-3/
LOCATION:Chilton Polden Hall
CATEGORIES:Chilton Polden
END:VEVENT
BEGIN:VEVENT
DTSTART;TZID=Europe/London:20260720T143000
DTEND;TZID=Europe/London:20260720T160000
DTSTAMP:20260423T211745
CREATED:20260423T143137Z
LAST-MODIFIED:20260423T143137Z
UID:2016-1784557800-1784563200@poldenstoday.co.uk
SUMMARY:Edington: The Happy Companions Club (55+)
DESCRIPTION:The Happy Companions Club (55+)\n🍰 Afternoon Tea \nJoin us for friendship\, conversation and a warm welcome at the Village Hall in Edington. \n🗓 Monday July 20th🕝 2.30pm📍 Village Hall\, Edington \n💷 £2 for members | £3 for non-members👋 All are welcome! \nCome along and enjoy good company in a relaxed and friendly setting
URL:https://poldenstoday.co.uk/calendar/edington-the-happy-companions-club-55-10/
LOCATION:Village Hall\, Edington
CATEGORIES:Edington
END:VEVENT
BEGIN:VEVENT
DTSTART;VALUE=DATE:20260801
DTEND;VALUE=DATE:20260802
DTSTAMP:20260423T211745
CREATED:20260423T150149Z
LAST-MODIFIED:20260423T150149Z
UID:2018-1785542400-1785628799@poldenstoday.co.uk
SUMMARY:Burtle: Harvest Home
DESCRIPTION:Burtle Harvest Home\n\n📅 Saturday 1st August\n🕙 All day and evening\n\n📍 Burtle Village Hall and Field\n\nBurtle Village Harvest Home is held every 4 years since its resurrection in 2000.  The last Harvest Home was delayed until 2022 due to COVID and be held again on Saturday 1st August 2026\, make a note in your diaries now for this major village celebration.\nTickets are on sale at Café Burtle from now until July or until sold out.  Payment by cash\, bank transfer or credit card.\n\n🎟️Tickets:£35 for the lunch\, price includes entry to the evening.£10.00 for the Evening only on the door\, no advance tickets sales.  Contact:Heather Lee on 📧 richardlee748@btinternet.com 📞01278722377 or Steve Allen on 📧 sgadbd@gmail.com 📞 07770583391
URL:https://poldenstoday.co.uk/calendar/burtle-harvest-home/
LOCATION:Burtle Village Hall
CATEGORIES:Burtle
END:VEVENT
BEGIN:VEVENT
DTSTART;TZID=Europe/London:20260808T120000
DTEND;TZID=Europe/London:20260808T143000
DTSTAMP:20260423T211745
CREATED:20260423T143834Z
LAST-MODIFIED:20260423T143834Z
UID:2017-1786190400-1786199400@poldenstoday.co.uk
SUMMARY:Chilton Polden: Silver Spoon Lunch
DESCRIPTION:🥣 Silver Spoon Lunch \n📅 Saturday 8th August\n🕙 Doors open 12.00pm \n📍 Chilton Polden Village Hall \n✅ Everyone welcome – come and join us for a 2 course lunch!
URL:https://poldenstoday.co.uk/calendar/chilton-polden-silver-spoon-lunch-5/
LOCATION:Chilton Polden Hall
CATEGORIES:Chilton Polden
END:VEVENT
BEGIN:VEVENT
DTSTART;VALUE=DATE:20260920
DTEND;VALUE=DATE:20260921
DTSTAMP:20260423T211745
CREATED:20260318T165733Z
LAST-MODIFIED:20260318T165733Z
UID:1940-1789862400-1789948799@poldenstoday.co.uk
SUMMARY:Edington:
DESCRIPTION:📅 Chilton Polden Parish Council Meetings \n🕖 Time: TBC \n📍 Location: Village Hall\, Edington \nSave the Date\nMore Details soon \n✨ Watch this space ✨
URL:https://poldenstoday.co.uk/calendar/edington/
LOCATION:Village Hall\, Edington
CATEGORIES:Edington
END:VEVENT
END:VCALENDAR